BEGIN:VCALENDAR
VERSION:2.0
PRODID:-//Familienverein für Groß und Klein in Chemnitz e.V. - ECPv6.10.1//NONSGML v1.0//EN
CALSCALE:GREGORIAN
METHOD:PUBLISH
X-WR-CALNAME:Familienverein für Groß und Klein in Chemnitz e.V.
X-ORIGINAL-URL:https://www.familienverein-chemnitz.de
X-WR-CALDESC:Veranstaltungen für Familienverein für Groß und Klein in Chemnitz e.V.
REFRESH-INTERVAL;VALUE=DURATION:PT1H
X-Robots-Tag:noindex
X-PUBLISHED-TTL:PT1H
BEGIN:VTIMEZONE
TZID:UTC
BEGIN:STANDARD
TZOFFSETFROM:+0000
TZOFFSETTO:+0000
TZNAME:UTC
DTSTART:20250101T000000
END:STANDARD
END:VTIMEZONE
BEGIN:VEVENT
DTSTART;TZID=UTC:20251015T090000
DTEND;TZID=UTC:20251015T120000
DTSTAMP:20260424T140831
CREATED:20250707T072850Z
LAST-MODIFIED:20250707T072850Z
UID:2817-1760518800-1760529600@www.familienverein-chemnitz.de
SUMMARY:Offener Eltern-Kind-Treff
DESCRIPTION:Wenn Ihr Lust habt\, einfach mal zu entspannen\, Spaß zu haben und zu plaudern\, dann schaut einfach rein und lasst Euch überraschen! Der offene Eltern-Kind-Treff des Zwergenclubs kommt ohne starre Anfangs- und Endzeiten aus\, d. h. innerhalb unserer Öffnungszeiten könnt Ihr ohne Voranmeldung mit Eurem Kind (0-6 Jahre) bei uns vorbeikommen. \nDie Kosten für die Teilnahme an unserem Eltern-Kind-Treff betragen 3€/Woche.
URL:https://www.familienverein-chemnitz.de/event/offener-eltern-kind-treff-347/
LOCATION:Familienverein für Groß und Klein in Chemnitz e.V.\, Erich-Mühsam-Straße 35\, Chemnitz\, Sachsen\, 09112
CATEGORIES:Zwergenclub
ORGANIZER;CN="Familienverein f%C3%BCr Gro%C3%9F und Klein in Chemnitz e.V.":MAILTO:info@familienverein-chemnitz.de
END:VEVENT
BEGIN:VEVENT
DTSTART;TZID=UTC:20251015T160000
DTEND;TZID=UTC:20251015T180000
DTSTAMP:20260424T140831
CREATED:20250410T122057Z
LAST-MODIFIED:20250410T122057Z
UID:2535-1760544000-1760551200@www.familienverein-chemnitz.de
SUMMARY:ALISA: Treff für Alleinerziehende in Chemnitz
DESCRIPTION:In unserer Sammlung von Socken in verschiedenen Größen und Farben ist bestimmt auch eine für dich dabei! Daraus basteln wir mit Wolle\, Knöpfen\, Federn und Farben lustige Sockenmonster. \n 
URL:https://www.familienverein-chemnitz.de/event/alisa-treff-fuer-alleinerziehende-in-chemnitz-24/
LOCATION:Familienverein für Groß und Klein in Chemnitz e.V.\, Erich-Mühsam-Straße 35\, Chemnitz\, Sachsen\, 09112
CATEGORIES:Alisa
ORGANIZER;CN="Familienverein f%C3%BCr Gro%C3%9F und Klein in Chemnitz e.V.":MAILTO:info@familienverein-chemnitz.de
END:VEVENT
END:VCALENDAR