BEGIN:VCALENDAR
VERSION:2.0
PRODID:-//Familienverein für Groß und Klein in Chemnitz e.V. - ECPv6.10.1//NONSGML v1.0//EN
CALSCALE:GREGORIAN
METHOD:PUBLISH
X-ORIGINAL-URL:https://www.familienverein-chemnitz.de
X-WR-CALDESC:Veranstaltungen für Familienverein für Groß und Klein in Chemnitz e.V.
REFRESH-INTERVAL;VALUE=DURATION:PT1H
X-Robots-Tag:noindex
X-PUBLISHED-TTL:PT1H
BEGIN:VTIMEZONE
TZID:UTC
BEGIN:STANDARD
TZOFFSETFROM:+0000
TZOFFSETTO:+0000
TZNAME:UTC
DTSTART:20250101T000000
END:STANDARD
END:VTIMEZONE
BEGIN:VEVENT
DTSTART;TZID=UTC:20251020T090000
DTEND;TZID=UTC:20251020T110000
DTSTAMP:20260424T055756
CREATED:20250819T121428Z
LAST-MODIFIED:20250819T121428Z
UID:2897-1760950800-1760958000@www.familienverein-chemnitz.de
SUMMARY:Vormittagsangebot: Farbspaziergang in den Herbst (Kinder von 3-6 Jahre)
DESCRIPTION:Los geht’s auf eine Schatzsuche durch die Farbenwelt im Herbst: Mit unserer bunten Schatzkiste begeben wir uns auf eine spannende Suche durch die Natur. Ob die Blätter nun schon gelb oder orange sind?\nGibt es noch ein paar farbenfrohe Blumen? Und welche Farben können wir noch entdecken \n  \nWir treffen uns mit wettergerechter Kleidung vor den Räumlichkeiten des Familienvereins für Groß und Klein in Chemnitz e.V..
URL:https://www.familienverein-chemnitz.de/event/vormittagsangebot-farbspaziergang-in-den-herbst-kinder-von-3-6-jahre/
LOCATION:Familienverein für Groß und Klein in Chemnitz e.V.\, Erich-Mühsam-Straße 35\, Chemnitz\, Sachsen\, 09112
CATEGORIES:Zwergenclub
ORGANIZER;CN="Familienverein f%C3%BCr Gro%C3%9F und Klein in Chemnitz e.V.":MAILTO:info@familienverein-chemnitz.de
END:VEVENT
END:VCALENDAR