BEGIN:VCALENDAR
VERSION:2.0
PRODID:-//Familienverein für Groß und Klein in Chemnitz e.V. - ECPv6.10.1//NONSGML v1.0//EN
CALSCALE:GREGORIAN
METHOD:PUBLISH
X-ORIGINAL-URL:https://www.familienverein-chemnitz.de
X-WR-CALDESC:Veranstaltungen für Familienverein für Groß und Klein in Chemnitz e.V.
REFRESH-INTERVAL;VALUE=DURATION:PT1H
X-Robots-Tag:noindex
X-PUBLISHED-TTL:PT1H
BEGIN:VTIMEZONE
TZID:UTC
BEGIN:STANDARD
TZOFFSETFROM:+0000
TZOFFSETTO:+0000
TZNAME:UTC
DTSTART:20250101T000000
END:STANDARD
END:VTIMEZONE
BEGIN:VEVENT
DTSTART;TZID=UTC:20251022T090000
DTEND;TZID=UTC:20251022T120000
DTSTAMP:20260424T022017
CREATED:20250707T073130Z
LAST-MODIFIED:20250707T073130Z
UID:2825-1761123600-1761134400@www.familienverein-chemnitz.de
SUMMARY:Offener Eltern-Kind-Treff
DESCRIPTION:Wenn Ihr Lust habt\, einfach mal zu entspannen\, Spaß zu haben und zu plaudern\, dann schaut einfach rein und lasst Euch überraschen! Der offene Eltern-Kind-Treff des Zwergenclubs kommt ohne starre Anfangs- und Endzeiten aus\, d. h. innerhalb unserer Öffnungszeiten könnt Ihr ohne Voranmeldung mit Eurem Kind (0-6 Jahre) bei uns vorbeikommen. \nDie Kosten für die Teilnahme an unserem Eltern-Kind-Treff betragen 3€/Woche.
URL:https://www.familienverein-chemnitz.de/event/offener-eltern-kind-treff-351/
LOCATION:Familienverein für Groß und Klein in Chemnitz e.V.\, Erich-Mühsam-Straße 35\, Chemnitz\, Sachsen\, 09112
CATEGORIES:Zwergenclub
ORGANIZER;CN="Familienverein f%C3%BCr Gro%C3%9F und Klein in Chemnitz e.V.":MAILTO:info@familienverein-chemnitz.de
END:VEVENT
BEGIN:VEVENT
DTSTART;TZID=UTC:20251022T180000
DTEND;TZID=UTC:20251022T190000
DTSTAMP:20260424T022017
CREATED:20250717T075806Z
LAST-MODIFIED:20250717T075806Z
UID:2855-1761156000-1761159600@www.familienverein-chemnitz.de
SUMMARY:ALISA Online-Veranstaltung: Rituale im Alltag: Wie sie Kinder stärken und Familien verbinden
DESCRIPTION:Der Familienalltag kann gelegentlich ganz schön herausfordernd sein. In dieser Veranstaltung wollen wir gemeinsam der bedeutsamen Rolle von Ritualen im gemeinsamen Alltag auf den Grund gehen. Es wird darauf eingegangen\, wie wiederkehrende Handlungen und Gewohnheiten Kindern und Erwachsenen Halt\, Orientierung und ein Gefühl der Zusammengehörigkeit geben können. Auch wird aufgezeigt\, wie sich Rituale im Laufe der Zeit wandeln\, wie neue Rituale bewusst geschaffen und in den Alltag integriert werden können und welche positiven Auswirkungen sie auf die Entwicklung von Kindern haben. Von einfachen Gute-Nacht-Geschichten bis hin zu festen Essenszeiten – wir zeigen\, wie Rituale emotionale Sicherheit fördern\, Übergänge erleichtern und wertvolle gemeinsame Erlebnisse schaffen. \nDie Veranstaltung findet online statt. Über eine Chat-Funktion haben Sie die Möglichkeit Fragen zu stellen. Kamera oder Mikrofon sind nicht erforderlich. Die Teilnahme ist kostenlos. Bitte melden Sie sich hier an\, um den Zugangslink zu erhalten.
URL:https://www.familienverein-chemnitz.de/event/alisa-online-veranstaltung-rituale-im-alltag-wie-sie-kinder-staerken-und-familien-verbinden/
LOCATION:online
CATEGORIES:Alisa
ORGANIZER;CN="Familienverein f%C3%BCr Gro%C3%9F und Klein in Chemnitz e.V.":MAILTO:info@familienverein-chemnitz.de
END:VEVENT
END:VCALENDAR