BEGIN:VCALENDAR
VERSION:2.0
PRODID:-//Familienverein für Groß und Klein in Chemnitz e.V. - ECPv6.10.1//NONSGML v1.0//EN
CALSCALE:GREGORIAN
METHOD:PUBLISH
X-WR-CALNAME:Familienverein für Groß und Klein in Chemnitz e.V.
X-ORIGINAL-URL:https://www.familienverein-chemnitz.de
X-WR-CALDESC:Veranstaltungen für Familienverein für Groß und Klein in Chemnitz e.V.
REFRESH-INTERVAL;VALUE=DURATION:PT1H
X-Robots-Tag:noindex
X-PUBLISHED-TTL:PT1H
BEGIN:VTIMEZONE
TZID:UTC
BEGIN:STANDARD
TZOFFSETFROM:+0000
TZOFFSETTO:+0000
TZNAME:UTC
DTSTART:20250101T000000
END:STANDARD
END:VTIMEZONE
BEGIN:VEVENT
DTSTART;TZID=UTC:20251124T090000
DTEND;TZID=UTC:20251124T120000
DTSTAMP:20260419T153822
CREATED:20251009T075617Z
LAST-MODIFIED:20251009T075617Z
UID:3011-1763974800-1763985600@www.familienverein-chemnitz.de
SUMMARY:Vormittagsangebot: Brettspiel-Vormittag (für Kinder von 3 bis 6 Jahre)
DESCRIPTION:Bist du bereit für einen Vormittag voll Würfelei und Abenteuer? Gemeinsam tauchen wir in die Welt der Spiele ein\, entdecken spannende Brettspiele und haben eine Menge Spaß dabei. Bringe auch gern dein Lieblingsbrettspiel mit!
URL:https://www.familienverein-chemnitz.de/event/vormittagsangebot-brettspiel-vormittag-fuer-kinder-von-3-bis-6-jahre/
LOCATION:Familienverein für Groß und Klein in Chemnitz e.V.\, Erich-Mühsam-Straße 35\, Chemnitz\, Sachsen\, 09112
CATEGORIES:Zwergenclub
ORGANIZER;CN="Familienverein f%C3%BCr Gro%C3%9F und Klein in Chemnitz e.V.":MAILTO:info@familienverein-chemnitz.de
END:VEVENT
BEGIN:VEVENT
DTSTART;TZID=UTC:20251124T180000
DTEND;TZID=UTC:20251124T193000
DTSTAMP:20260419T153822
CREATED:20251008T132851Z
LAST-MODIFIED:20251008T133154Z
UID:3005-1764007200-1764012600@www.familienverein-chemnitz.de
SUMMARY:AOK Gemeinsam wachsen: Stille und schüchterne Kinder unterstützen und begleiten
DESCRIPTION:Viele Eltern machen sich häufig Sorgen und Gedanken\, wenn ihr Kind besonders still oder schüchtern ist. In dieser Veranstaltung wird unter anderen darauf eingegangen\, wie zurückhaltenden Kindern genügend Raum gegeben werden kann\, in dem sie sich entfalten können. Auch werden praktische Informationen aufgezeigt\, um das Selbstvertrauen Ihres Kindes in kleinen\, wirkungsvollen Schritten zu stärken und zu fördern. \nVeranstaltungsort: Elternarbeit Sachsen\, Limbacher Straße 24\, 09113 Chemnitz
URL:https://www.familienverein-chemnitz.de/event/aok-gemeinsam-wachsen-stille-und-schuechterne-kinder-unterstuetzen-und-begleiten/
LOCATION:Elternarbeit Sachsen\, Limbacher Straße\, Chemnitz\, Sachsen\, 09113\, Deutschland
CATEGORIES:AOK Gemeinsam wachsen
ORGANIZER;CN="Familienverein f%C3%BCr Gro%C3%9F und Klein in Chemnitz e.V.":MAILTO:info@familienverein-chemnitz.de
END:VEVENT
END:VCALENDAR