BEGIN:VCALENDAR
VERSION:2.0
PRODID:-//Familienverein für Groß und Klein in Chemnitz e.V. - ECPv6.10.1//NONSGML v1.0//EN
CALSCALE:GREGORIAN
METHOD:PUBLISH
X-WR-CALNAME:Familienverein für Groß und Klein in Chemnitz e.V.
X-ORIGINAL-URL:https://www.familienverein-chemnitz.de
X-WR-CALDESC:Veranstaltungen für Familienverein für Groß und Klein in Chemnitz e.V.
REFRESH-INTERVAL;VALUE=DURATION:PT1H
X-Robots-Tag:noindex
X-PUBLISHED-TTL:PT1H
BEGIN:VTIMEZONE
TZID:UTC
BEGIN:STANDARD
TZOFFSETFROM:+0000
TZOFFSETTO:+0000
TZNAME:UTC
DTSTART:20260101T000000
END:STANDARD
END:VTIMEZONE
BEGIN:VEVENT
DTSTART;TZID=UTC:20260127T090000
DTEND;TZID=UTC:20260127T120000
DTSTAMP:20260425T114847
CREATED:20251203T101826Z
LAST-MODIFIED:20251203T101826Z
UID:3090-1769504400-1769515200@www.familienverein-chemnitz.de
SUMMARY:Offener Eltern-Kind-Treff
DESCRIPTION:Wenn Ihr Lust habt\, einfach mal zu entspannen\, Spaß zu haben und zu plaudern\, dann schaut einfach rein und lasst Euch überraschen! Der offene Eltern-Kind-Treff des Zwergenclubs kommt ohne starre Anfangs- und Endzeiten aus\, d. h. innerhalb unserer Öffnungszeiten könnt Ihr ohne Voranmeldung mit Eurem Kind (0-6 Jahre) bei uns vorbeikommen. \nDie Kosten für die Teilnahme an unserem Eltern-Kind-Treff betragen 3€/Woche.
URL:https://www.familienverein-chemnitz.de/event/offener-eltern-kind-treff-383/
LOCATION:Familienverein für Groß und Klein in Chemnitz e.V.\, Erich-Mühsam-Straße 35\, Chemnitz\, Sachsen\, 09112
CATEGORIES:Zwergenclub
ORGANIZER;CN="Familienverein f%C3%BCr Gro%C3%9F und Klein in Chemnitz e.V.":MAILTO:info@familienverein-chemnitz.de
END:VEVENT
BEGIN:VEVENT
DTSTART;TZID=UTC:20260127T150000
DTEND;TZID=UTC:20260127T170000
DTSTAMP:20260425T114847
CREATED:20251211T184912Z
LAST-MODIFIED:20251211T184912Z
UID:3172-1769526000-1769533200@www.familienverein-chemnitz.de
SUMMARY:Nachmittagsangebot: Winter-Windlichter (für Kinder von 3-6 Jahre)
DESCRIPTION:Mit Transparentpapier und Kleber gestalten die Kinder farbenfrohe Windlichter\, die im Winter warm leuchten. Perfekt für die Fensterbank oder als Geschenk. \nMeldet Euch bei Interesse gern an!
URL:https://www.familienverein-chemnitz.de/event/nachmittagsangebot-winter-windlichter-fuer-kinder-von-3-6-jahre/
LOCATION:Familienverein für Groß und Klein in Chemnitz e.V.\, Erich-Mühsam-Straße 35\, Chemnitz\, Sachsen\, 09112
CATEGORIES:Zwergenclub
ORGANIZER;CN="Familienverein f%C3%BCr Gro%C3%9F und Klein in Chemnitz e.V.":MAILTO:info@familienverein-chemnitz.de
END:VEVENT
END:VCALENDAR