BEGIN:VCALENDAR
VERSION:2.0
PRODID:-//Familienverein für Groß und Klein in Chemnitz e.V. - ECPv6.10.1//NONSGML v1.0//EN
CALSCALE:GREGORIAN
METHOD:PUBLISH
X-ORIGINAL-URL:https://www.familienverein-chemnitz.de
X-WR-CALDESC:Veranstaltungen für Familienverein für Groß und Klein in Chemnitz e.V.
REFRESH-INTERVAL;VALUE=DURATION:PT1H
X-Robots-Tag:noindex
X-PUBLISHED-TTL:PT1H
BEGIN:VTIMEZONE
TZID:UTC
BEGIN:STANDARD
TZOFFSETFROM:+0000
TZOFFSETTO:+0000
TZNAME:UTC
DTSTART:20260101T000000
END:STANDARD
END:VTIMEZONE
BEGIN:VEVENT
DTSTART;TZID=UTC:20260128T090000
DTEND;TZID=UTC:20260128T120000
DTSTAMP:20260425T133208
CREATED:20251203T102038Z
LAST-MODIFIED:20251203T102038Z
UID:3093-1769590800-1769601600@www.familienverein-chemnitz.de
SUMMARY:Offener Eltern-Kind-Treff
DESCRIPTION:Wenn Ihr Lust habt\, einfach mal zu entspannen\, Spaß zu haben und zu plaudern\, dann schaut einfach rein und lasst Euch überraschen! Der offene Eltern-Kind-Treff des Zwergenclubs kommt ohne starre Anfangs- und Endzeiten aus\, d. h. innerhalb unserer Öffnungszeiten könnt Ihr ohne Voranmeldung mit Eurem Kind (0-6 Jahre) bei uns vorbeikommen. \nDie Kosten für die Teilnahme an unserem Eltern-Kind-Treff betragen 3€/Woche.
URL:https://www.familienverein-chemnitz.de/event/offener-eltern-kind-treff-384/
LOCATION:Familienverein für Groß und Klein in Chemnitz e.V.\, Erich-Mühsam-Straße 35\, Chemnitz\, Sachsen\, 09112
CATEGORIES:Zwergenclub
ORGANIZER;CN="Familienverein f%C3%BCr Gro%C3%9F und Klein in Chemnitz e.V.":MAILTO:info@familienverein-chemnitz.de
END:VEVENT
BEGIN:VEVENT
DTSTART;TZID=UTC:20260128T180000
DTEND;TZID=UTC:20260128T190000
DTSTAMP:20260425T133208
CREATED:20260102T094348Z
LAST-MODIFIED:20260102T094348Z
UID:3192-1769623200-1769626800@www.familienverein-chemnitz.de
SUMMARY:ALISA: Online-Veranstaltung: Umgang mit Stress bei Kindern
DESCRIPTION:Kinder stehen heute oft unter großem Druck – sei es durch Schule\, Freizeit oder familiäre Veränderungen. In dieser kurzen Veranstaltung erhalten Eltern und Erziehende praxisnahe Anregungen\, wie sie Stresssymptome bei Kindern erkennen und ihnen im Alltag unterstützend begegnen können. Wir sprechen über kindgerechte Bewältigungsstrategien\, die Rolle der Bezugspersonen und einfache Methoden zur Stressprävention. \nDie Veranstaltung findet online statt. Über eine Chat-Funktion haben Sie die Möglichkeit Fragen zu stellen. Kamera oder Mikrofon sind nicht erforderlich. Die Teilnahme ist kostenlos. Bitte melden Sie sich hier an\, um den Zugangslink zu erhalten.
URL:https://www.familienverein-chemnitz.de/event/alisa-online-veranstaltung-umgang-mit-stress-bei-kindern/
LOCATION:online
CATEGORIES:Alisa
ORGANIZER;CN="Familienverein f%C3%BCr Gro%C3%9F und Klein in Chemnitz e.V.":MAILTO:info@familienverein-chemnitz.de
END:VEVENT
END:VCALENDAR